BEGIN:VCALENDAR
VERSION:2.0
PRODID:-//Rainbow Reiki® Schaumburg - ECPv6.2.8//NONSGML v1.0//EN
CALSCALE:GREGORIAN
METHOD:PUBLISH
X-WR-CALNAME:Rainbow Reiki® Schaumburg
X-ORIGINAL-URL:https://rainbowreiki-schaumburg.de
X-WR-CALDESC:Veranstaltungen für Rainbow Reiki® Schaumburg
REFRESH-INTERVAL;VALUE=DURATION:PT1H
X-Robots-Tag:noindex
X-PUBLISHED-TTL:PT1H
BEGIN:VTIMEZONE
TZID:Europe/Berlin
BEGIN:DAYLIGHT
TZOFFSETFROM:+0100
TZOFFSETTO:+0200
TZNAME:CEST
DTSTART:20180325T010000
END:DAYLIGHT
BEGIN:STANDARD
TZOFFSETFROM:+0200
TZOFFSETTO:+0100
TZNAME:CET
DTSTART:20181028T010000
END:STANDARD
END:VTIMEZONE
BEGIN:VEVENT
DTSTART;VALUE=DATE:20180923
DTEND;VALUE=DATE:20180924
DTSTAMP:20260423T031608
CREATED:20180921T101058Z
LAST-MODIFIED:20180921T101058Z
UID:719-1537660800-1537747199@rainbowreiki-schaumburg.de
SUMMARY:Gesundheitstag Hameln
DESCRIPTION:Gesundheitstag Hameln 2018\n\n\n \n\nDer Gesundheitstag in Hameln ist eine Messe rund um das Thema Gesundheit. Zahlreiche Aussteller präsentieren auf dem Gesundheitstag in Hameln ihre Produkte und Dienstleistungen rund um die Themenbereichen Gesundheit\, Wohlbefinden\, Fitness und Mobilität. Das Angebot umfasst dabei Gesundheitsvorsorge\, Betreuung im hohen Alter\, Ernährungsberatung\, Massagen\, elektrische Gehhilfen\, Rollatoren\, sozialrechtliche Hilfe\, ambulante und stationäre Pflege\, Wohnen im Alter und vieles mehr. Abgerundet wird das Angebot der Gesundheitsmesse in Hameln von informativen Fachvorträgen zu gesundheitlichen Themen.
URL:https://rainbowreiki-schaumburg.de/event/gesundheitstag-hameln/
LOCATION:Weserbergland-Zentrum\, Rathausplatz\, Hameln\, Niedersachsen\, 31785\, Deutschland
ATTACH;FMTTYPE=image/png:https://rainbowreiki-schaumburg.de/wp-content/uploads/2017/05/image4502-e1535874960923.png
END:VEVENT
END:VCALENDAR